BEGIN:VCALENDAR
VERSION:2.0
PRODID:-//Five Boroughs Music Festival - ECPv6.15.20//NONSGML v1.0//EN
CALSCALE:GREGORIAN
METHOD:PUBLISH
X-WR-CALNAME:Five Boroughs Music Festival
X-ORIGINAL-URL:https://5bmf.org
X-WR-CALDESC:Events for Five Boroughs Music Festival
REFRESH-INTERVAL;VALUE=DURATION:PT1H
X-Robots-Tag:noindex
X-PUBLISHED-TTL:PT1H
BEGIN:VTIMEZONE
TZID:America/New_York
BEGIN:DAYLIGHT
TZOFFSETFROM:-0500
TZOFFSETTO:-0400
TZNAME:EDT
DTSTART:20230312T070000
END:DAYLIGHT
BEGIN:STANDARD
TZOFFSETFROM:-0400
TZOFFSETTO:-0500
TZNAME:EST
DTSTART:20231105T060000
END:STANDARD
BEGIN:DAYLIGHT
TZOFFSETFROM:-0500
TZOFFSETTO:-0400
TZNAME:EDT
DTSTART:20240310T070000
END:DAYLIGHT
BEGIN:STANDARD
TZOFFSETFROM:-0400
TZOFFSETTO:-0500
TZNAME:EST
DTSTART:20241103T060000
END:STANDARD
BEGIN:DAYLIGHT
TZOFFSETFROM:-0500
TZOFFSETTO:-0400
TZNAME:EDT
DTSTART:20250309T070000
END:DAYLIGHT
BEGIN:STANDARD
TZOFFSETFROM:-0400
TZOFFSETTO:-0500
TZNAME:EST
DTSTART:20251102T060000
END:STANDARD
END:VTIMEZONE
BEGIN:VEVENT
DTSTART;TZID=America/New_York:20241102T180000
DTEND;TZID=America/New_York:20241102T200000
DTSTAMP:20260420T002427
CREATED:20240824T114035Z
LAST-MODIFIED:20241102T195727Z
UID:3918-1730570400-1730577600@5bmf.org
SUMMARY:The New Consort: Return / Revive
DESCRIPTION:Trinity Lutheran Church\nNov 2\, 2024 • 6:00 PM \nTICKETS AVAILABLE AT THE DOOR
URL:https://5bmf.org/event/the-new-consort-return-revive/
LOCATION:Trinity Lutheran Church\, 309 Saint Paul's Avenue\, Staten Island\, NY\, 10304\, United States
END:VEVENT
END:VCALENDAR